BEGIN:VCALENDAR
VERSION:2.0
PRODID:-//Kino Tuškanac//Filmski programi//HR
BEGIN:VEVENT
UID:ac20874b67108c3848d11351524554c2@kinotuskanac.hr
DTSTAMP:20260422T011346Z
DTSTART:20070630T190000
DTEND:20070630T210000
SUMMARY:Hirovito ljeto
LOCATION:Kino Tuškanac
DESCRIPTION:Rozmarné léto, Čehoslovačka, 1968 R: Jirí Menzel
END:VEVENT
END:VCALENDAR