BEGIN:VCALENDAR
VERSION:2.0
PRODID:-//Kino Tuškanac//Filmski programi//HR
BEGIN:VEVENT
UID:dc302310ccfb9baf471f5a2819a8f4b6@kinotuskanac.hr
DTSTAMP:20260419T205034Z
DTSTART:20021030T210000
DTEND:20021030T230000
SUMMARY:Sjeverni rub
LOCATION:Kino Tuškanac
DESCRIPTION:Nordrand, 1999 R: Barbara Albert
END:VEVENT
END:VCALENDAR