BEGIN:VCALENDAR
VERSION:2.0
PRODID:-//Kino Tuškanac//Filmski programi//HR
BEGIN:VEVENT
UID:a0ee078885a2545ff070cbeafea50d27@kinotuskanac.hr
DTSTAMP:20260419T205959Z
DTSTART:20070322T210000
DTEND:20070322T230000
SUMMARY:Ljepotica dana
LOCATION:Kino Tuškanac
DESCRIPTION:Belle de jour, Francuska, 1967 R: Luis Buñuel
END:VEVENT
END:VCALENDAR