BEGIN:VCALENDAR
VERSION:2.0
PRODID:-//Kino Tuškanac//Filmski programi//HR
BEGIN:VEVENT
UID:24f37f8806569c611af9cbbf7cb70481@kinotuskanac.hr
DTSTAMP:20260420T170105Z
DTSTART:20070524T190000
DTEND:20070524T210000
SUMMARY:Lenjingradski kauboji susreću Mojsija
LOCATION:Kino Tuškanac
DESCRIPTION:Leningrad Cowboys Meet Moses, 1994 R: Aki Kaurismäki
END:VEVENT
END:VCALENDAR