BEGIN:VCALENDAR
VERSION:2.0
PRODID:-//Kino Tuškanac//Filmski programi//HR
BEGIN:VEVENT
UID:5c82ecf145f3629f460f2e51e45051c3@kinotuskanac.hr
DTSTAMP:20260423T024038Z
DTSTART:20070606T190000
DTEND:20070606T210000
SUMMARY:De bares
LOCATION:Kino Tuškanac
DESCRIPTION:2006 R: Mario Iglesias
END:VEVENT
END:VCALENDAR