BEGIN:VCALENDAR
VERSION:2.0
PRODID:-//Kino Tuškanac//Filmski programi//HR
BEGIN:VEVENT
UID:7ca4a10792381d74460591c123eb249d@kinotuskanac.hr
DTSTAMP:20260419T141812Z
DTSTART:20070606T210000
DTEND:20070606T230000
SUMMARY:Tamno plavo gotovo crno
LOCATION:Kino Tuškanac
DESCRIPTION:Azul oscuro casi negro, 2006 R: Arévalo, Sánchez
END:VEVENT
END:VCALENDAR