BEGIN:VCALENDAR
VERSION:2.0
PRODID:-//Kino Tuškanac//Filmski programi//HR
BEGIN:VEVENT
UID:0c34b83d906dc39650958960cb3d4fb2@kinotuskanac.hr
DTSTAMP:20260420T012310Z
DTSTART:20070608T163000
DTEND:20070608T183000
SUMMARY:Zemlja (1969)
LOCATION:Kino Tuškanac
DESCRIPTION:Al ard, 1969 R: Youssef Chahine
END:VEVENT
END:VCALENDAR