BEGIN:VCALENDAR
VERSION:2.0
PRODID:-//Kino Tuškanac//Filmski programi//HR
BEGIN:VEVENT
UID:635204a4015679989d32a2e147a247bd@kinotuskanac.hr
DTSTAMP:20260423T111436Z
DTSTART:20070608T190000
DTEND:20070608T210000
SUMMARY:Klime
LOCATION:Kino Tuškanac
DESCRIPTION:Iklimler, Turska, Francuska, 2006 R: Nuri Bilge Ceylan
END:VEVENT
END:VCALENDAR