BEGIN:VCALENDAR
VERSION:2.0
PRODID:-//Kino Tuškanac//Filmski programi//HR
BEGIN:VEVENT
UID:b5479f46928cc048505ea0a954c8ad30@kinotuskanac.hr
DTSTAMP:20260420T012147Z
DTSTART:20070715T200000
DTEND:20070715T220000
SUMMARY:Zemlja (1969)
LOCATION:Kino Tuškanac
DESCRIPTION:Al ard, 1969 R: Youssef Chahine
END:VEVENT
END:VCALENDAR