BEGIN:VCALENDAR
VERSION:2.0
PRODID:-//Kino Tuškanac//Filmski programi//HR
BEGIN:VEVENT
UID:c7c8482ef585c1905c91982dcdaccf7b@kinotuskanac.hr
DTSTAMP:20260425T215508Z
DTSTART:20070716T190000
DTEND:20070716T210000
SUMMARY:Andrej Rubljov
LOCATION:Kino Tuškanac
DESCRIPTION:Andrey Rublyov, Rusija, 1966 | Mjesto prikazivanja filma: Centar za kulturu Histrionski dom (Ilica 90) R: Andrei Tarkovsky
END:VEVENT
END:VCALENDAR