BEGIN:VCALENDAR
VERSION:2.0
PRODID:-//Kino Tuškanac//Filmski programi//HR
BEGIN:VEVENT
UID:0053282486f0312926f73dca84d3a9cf@kinotuskanac.hr
DTSTAMP:20260421T092719Z
DTSTART:20021015T170000
DTEND:20021015T190000
SUMMARY:Krici i šaputanja
LOCATION:Kino Tuškanac
DESCRIPTION:Viskningar och rop, Švedska, 1972 | Mjesto prikazivanja filma: Kino Forum (SD Stjepan Radić, Jarunska ul. 2) R: Ingmar Bergman
END:VEVENT
END:VCALENDAR