BEGIN:VCALENDAR
VERSION:2.0
PRODID:-//Kino Tuškanac//Filmski programi//HR
BEGIN:VEVENT
UID:25b550eb5ac809e4ef2a87095410d104@kinotuskanac.hr
DTSTAMP:20260420T200053Z
DTSTART:20071012T210000
DTEND:20071012T230000
SUMMARY:Osmijesi ljetne noći
LOCATION:Kino Tuškanac
DESCRIPTION:Sommarnattens leende, Švedska, 1955 R: Ingmar Bergman
END:VEVENT
END:VCALENDAR