BEGIN:VCALENDAR
VERSION:2.0
PRODID:-//Kino Tuškanac//Filmski programi//HR
BEGIN:VEVENT
UID:e18e5979d5bfae76619a1bfa5a031271@kinotuskanac.hr
DTSTAMP:20260420T200400Z
DTSTART:20071013T190000
DTEND:20071013T210000
SUMMARY:Osmijesi ljetne noći
LOCATION:Kino Tuškanac
DESCRIPTION:Sommarnattens leende, Švedska, 1955 R: Ingmar Bergman
END:VEVENT
END:VCALENDAR