BEGIN:VCALENDAR
VERSION:2.0
PRODID:-//Kino Tuškanac//Filmski programi//HR
BEGIN:VEVENT
UID:e9e0cbd5cf06147a6034212ed1e9bdb4@kinotuskanac.hr
DTSTAMP:20260421T051341Z
DTSTART:20071017T210000
DTEND:20071017T230000
SUMMARY:Đavolje oko
LOCATION:Kino Tuškanac
DESCRIPTION:Djävulens öga, Švedska, 1960 R: Ingmar Bergman
END:VEVENT
END:VCALENDAR