BEGIN:VCALENDAR
VERSION:2.0
PRODID:-//Kino Tuškanac//Filmski programi//HR
BEGIN:VEVENT
UID:7fc86985e5ab8ebf36b1a456f4cecdf6@kinotuskanac.hr
DTSTAMP:20260421T051401Z
DTSTART:20071018T190000
DTEND:20071018T210000
SUMMARY:Đavolje oko
LOCATION:Kino Tuškanac
DESCRIPTION:Djävulens öga, Švedska, 1960 R: Ingmar Bergman
END:VEVENT
END:VCALENDAR