BEGIN:VCALENDAR
VERSION:2.0
PRODID:-//Kino Tuškanac//Filmski programi//HR
BEGIN:VEVENT
UID:dd50cb8f18ee6abef4b72e52af954e54@kinotuskanac.hr
DTSTAMP:20260421T095104Z
DTSTART:20071024T190000
DTEND:20071024T210000
SUMMARY:Krici i šaputanja
LOCATION:Kino Tuškanac
DESCRIPTION:Viskningar och rop, Švedska, 1972 | Mjesto prikazivanja filma: Kino Forum (SD Stjepan Radić, Jarunska ul. 2) R: Ingmar Bergman
END:VEVENT
END:VCALENDAR