BEGIN:VCALENDAR
VERSION:2.0
PRODID:-//Kino Tuškanac//Filmski programi//HR
BEGIN:VEVENT
UID:10bd5ac36aded958039b4b0733b616ca@kinotuskanac.hr
DTSTAMP:20260420T191409Z
DTSTART:20071030T190000
DTEND:20071030T210000
SUMMARY:Licem u lice (1976)
LOCATION:Kino Tuškanac
DESCRIPTION:Ansikte mot ansikte, 1976 R: Ingmar Bergman
END:VEVENT
END:VCALENDAR