BEGIN:VCALENDAR
VERSION:2.0
PRODID:-//Kino Tuškanac//Filmski programi//HR
BEGIN:VEVENT
UID:eef3dbd28cecaf6d92ea308661b9bcbc@kinotuskanac.hr
DTSTAMP:20260421T011752Z
DTSTART:20021019T170000
DTEND:20021019T190000
SUMMARY:Bergmans röst / The voice of Bergman
LOCATION:Kino Tuškanac
DESCRIPTION:1997 R: Gunnar Bergdahl
END:VEVENT
END:VCALENDAR