BEGIN:VCALENDAR
VERSION:2.0
PRODID:-//Kino Tuškanac//Filmski programi//HR
BEGIN:VEVENT
UID:ac9c50189336cf676d15e7ec3a50ab49@kinotuskanac.hr
DTSTAMP:20260420T211247Z
DTSTART:20071126T190000
DTEND:20071126T210000
SUMMARY:Romanca u molu
LOCATION:Kino Tuškanac
DESCRIPTION:Romanze in Moll, 1943 R: Helmut Käutner
END:VEVENT
END:VCALENDAR