BEGIN:VCALENDAR
VERSION:2.0
PRODID:-//Kino Tuškanac//Filmski programi//HR
BEGIN:VEVENT
UID:ce7bba954735271753220706c8f5f19d@kinotuskanac.hr
DTSTAMP:20260420T211134Z
DTSTART:20071127T210000
DTEND:20071127T230000
SUMMARY:Romanca u molu
LOCATION:Kino Tuškanac
DESCRIPTION:Romanze in Moll, 1943 R: Helmut Käutner
END:VEVENT
END:VCALENDAR