BEGIN:VCALENDAR
VERSION:2.0
PRODID:-//Kino Tuškanac//Filmski programi//HR
BEGIN:VEVENT
UID:de3b7ba0e289691b240596069000c116@kinotuskanac.hr
DTSTAMP:20260419T225617Z
DTSTART:20071201T200000
DTEND:20071201T220000
SUMMARY:Njemačka, blijeda mati
LOCATION:Kino Tuškanac
DESCRIPTION:Deutschland, bleiche Mutter, 1979 R: Helma Sanders-Brahms
END:VEVENT
END:VCALENDAR