BEGIN:VCALENDAR
VERSION:2.0
PRODID:-//Kino Tuškanac//Filmski programi//HR
BEGIN:VEVENT
UID:1ea2d4c810768c75a348ef4e12bb3004@kinotuskanac.hr
DTSTAMP:20260423T042740Z
DTSTART:20071207T190000
DTEND:20071207T210000
SUMMARY:Lov na jelene
LOCATION:Kino Tuškanac
DESCRIPTION:Jugoslavija: Hrvatska, 1972 R: Fadil Hadžić
END:VEVENT
END:VCALENDAR