BEGIN:VCALENDAR
VERSION:2.0
PRODID:-//Kino Tuškanac//Filmski programi//HR
BEGIN:VEVENT
UID:c9352149c5c25f44cc17834142c4e6af@kinotuskanac.hr
DTSTAMP:20260423T042627Z
DTSTART:20071208T210000
DTEND:20071208T230000
SUMMARY:Lov na jelene
LOCATION:Kino Tuškanac
DESCRIPTION:Jugoslavija: Hrvatska, 1972 R: Fadil Hadžić
END:VEVENT
END:VCALENDAR