BEGIN:VCALENDAR
VERSION:2.0
PRODID:-//Kino Tuškanac//Filmski programi//HR
BEGIN:VEVENT
UID:68a4ae07b2922c7404969f755e582b00@kinotuskanac.hr
DTSTAMP:20260419T185914Z
DTSTART:20071210T210000
DTEND:20071210T230000
SUMMARY:Kronika jednog zločina
LOCATION:Kino Tuškanac
DESCRIPTION:1973 R: Lordan Zafranović
END:VEVENT
END:VCALENDAR