BEGIN:VCALENDAR
VERSION:2.0
PRODID:-//Kino Tuškanac//Filmski programi//HR
BEGIN:VEVENT
UID:2975030d0f44d619af5e3b42968dcd4b@kinotuskanac.hr
DTSTAMP:20260423T010239Z
DTSTART:20071218T190000
DTEND:20071218T210000
SUMMARY:Nestao
LOCATION:Kino Tuškanac
DESCRIPTION:Missing, 1982 R: Costa-Gavras Costa-Gavras
END:VEVENT
END:VCALENDAR