BEGIN:VCALENDAR
VERSION:2.0
PRODID:-//Kino Tuškanac//Filmski programi//HR
BEGIN:VEVENT
UID:abe4acbc1a41f434bcc7be23183678ae@kinotuskanac.hr
DTSTAMP:20260423T005543Z
DTSTART:20071219T190000
DTEND:20071219T210000
SUMMARY:Nestao
LOCATION:Kino Tuškanac
DESCRIPTION:Missing, 1982 R: Costa-Gavras Costa-Gavras
END:VEVENT
END:VCALENDAR