BEGIN:VCALENDAR
VERSION:2.0
PRODID:-//Kino Tuškanac//Filmski programi//HR
BEGIN:VEVENT
UID:36e19ea00705e07c17c0a1cee5c50277@kinotuskanac.hr
DTSTAMP:20260420T165840Z
DTSTART:20071105T200000
DTEND:20071105T220000
SUMMARY:Čime sam to zaslužila?
LOCATION:Kino Tuškanac
DESCRIPTION:Qué he hecho yo para merecer esto?, Španjolska, 1984 R: Pedro Almodóvar
END:VEVENT
END:VCALENDAR