BEGIN:VCALENDAR
VERSION:2.0
PRODID:-//Kino Tuškanac//Filmski programi//HR
BEGIN:VEVENT
UID:0dd7bc3bfb6fab7381ea71002399720d@kinotuskanac.hr
DTSTAMP:20260420T170033Z
DTSTART:20071106T190000
DTEND:20071106T210000
SUMMARY:Čime sam to zaslužila?
LOCATION:Kino Tuškanac
DESCRIPTION:Qué he hecho yo para merecer esto?, Španjolska, 1984 R: Pedro Almodóvar
END:VEVENT
END:VCALENDAR