BEGIN:VCALENDAR
VERSION:2.0
PRODID:-//Kino Tuškanac//Filmski programi//HR
BEGIN:VEVENT
UID:8e28a977f8bbc4a2309e395a4409c312@kinotuskanac.hr
DTSTAMP:20260423T111436Z
DTSTART:20071116T183000
DTEND:20071116T203000
SUMMARY:Baiano
LOCATION:Kino Tuškanac
DESCRIPTION:2005 R: Elisabetta Bernardini
END:VEVENT
END:VCALENDAR