BEGIN:VCALENDAR
VERSION:2.0
PRODID:-//Kino Tuškanac//Filmski programi//HR
BEGIN:VEVENT
UID:a8b78e6f176ef9e2aa5bea54e37bb650@kinotuskanac.hr
DTSTAMP:20260423T143907Z
DTSTART:20071116T210000
DTEND:20071116T230000
SUMMARY:Brđanin Jimmy
LOCATION:Kino Tuškanac
DESCRIPTION:Jimmy della collina, 2006 R: Enrico Pau
END:VEVENT
END:VCALENDAR