BEGIN:VCALENDAR
VERSION:2.0
PRODID:-//Kino Tuškanac//Filmski programi//HR
BEGIN:VEVENT
UID:a28f03ee44ed395ce9d0b3e8b8d7bad0@kinotuskanac.hr
DTSTAMP:20260421T093529Z
DTSTART:20080209T190000
DTEND:20080209T210000
SUMMARY:Noć
LOCATION:Kino Tuškanac
DESCRIPTION:La notte, Italija, Francuska, 1961 R: Michelangelo Antonioni
END:VEVENT
END:VCALENDAR