BEGIN:VCALENDAR
VERSION:2.0
PRODID:-//Kino Tuškanac//Filmski programi//HR
BEGIN:VEVENT
UID:1417ac21a6753a38bd11d2c6e31bb31d@kinotuskanac.hr
DTSTAMP:20260421T080428Z
DTSTART:20080211T210000
DTEND:20080211T230000
SUMMARY:Noć
LOCATION:Kino Tuškanac
DESCRIPTION:La notte, Italija, Francuska, 1961 R: Michelangelo Antonioni
END:VEVENT
END:VCALENDAR