BEGIN:VCALENDAR
VERSION:2.0
PRODID:-//Kino Tuškanac//Filmski programi//HR
BEGIN:VEVENT
UID:fee937f71e4f337f215b8ab62bb2b7ad@kinotuskanac.hr
DTSTAMP:20260422T110347Z
DTSTART:20021105T190000
DTEND:20021105T210000
SUMMARY:49. paralela
LOCATION:Kino Tuškanac
DESCRIPTION:49th Parallel, 1941 R: Michael Powell
END:VEVENT
END:VCALENDAR