BEGIN:VCALENDAR
VERSION:2.0
PRODID:-//Kino Tuškanac//Filmski programi//HR
BEGIN:VEVENT
UID:0950c79e4aaaec38f7aff7b9f5a4c1e4@kinotuskanac.hr
DTSTAMP:20260421T200300Z
DTSTART:20080219T190000
DTEND:20080219T210000
SUMMARY:Probisvijet
LOCATION:Kino Tuškanac
DESCRIPTION:Il bidone, Italija, Francuska, 1955 R: Federico Fellini
END:VEVENT
END:VCALENDAR