BEGIN:VCALENDAR
VERSION:2.0
PRODID:-//Kino Tuškanac//Filmski programi//HR
BEGIN:VEVENT
UID:b85167e1629d28ce70d00ed3bc155e6a@kinotuskanac.hr
DTSTAMP:20260425T173508Z
DTSTART:20080219T210000
DTEND:20080219T230000
SUMMARY:Osam i pol
LOCATION:Kino Tuškanac
DESCRIPTION:Otto e mezzo, Italija, Francuska, 1963 R: Federico Fellini
END:VEVENT
END:VCALENDAR