BEGIN:VCALENDAR
VERSION:2.0
PRODID:-//Kino Tuškanac//Filmski programi//HR
BEGIN:VEVENT
UID:e85e4b3c35286952dace8c56498ff853@kinotuskanac.hr
DTSTAMP:20260425T173126Z
DTSTART:20080220T190000
DTEND:20080220T210000
SUMMARY:Osam i pol
LOCATION:Kino Tuškanac
DESCRIPTION:Otto e mezzo, Italija, Francuska, 1963 R: Federico Fellini
END:VEVENT
END:VCALENDAR