BEGIN:VCALENDAR
VERSION:2.0
PRODID:-//Kino Tuškanac//Filmski programi//HR
BEGIN:VEVENT
UID:f154241ea7038430bedfce36f9be5778@kinotuskanac.hr
DTSTAMP:20260421T200546Z
DTSTART:20080220T213000
DTEND:20080220T233000
SUMMARY:Probisvijet
LOCATION:Kino Tuškanac
DESCRIPTION:Il bidone, Italija, Francuska, 1955 R: Federico Fellini
END:VEVENT
END:VCALENDAR