BEGIN:VCALENDAR
VERSION:2.0
PRODID:-//Kino Tuškanac//Filmski programi//HR
BEGIN:VEVENT
UID:60120fd61f9b1670bb4bc0c997a79251@kinotuskanac.hr
DTSTAMP:20260421T164441Z
DTSTART:20080221T190000
DTEND:20080221T210000
SUMMARY:Slatki život
LOCATION:Kino Tuškanac
DESCRIPTION:La dolce vita, Italija, Francuska, 1960 R: Federico Fellini
END:VEVENT
END:VCALENDAR