BEGIN:VCALENDAR
VERSION:2.0
PRODID:-//Kino Tuškanac//Filmski programi//HR
BEGIN:VEVENT
UID:656c18ea8a71f276a518503df68dd87e@kinotuskanac.hr
DTSTAMP:20260419T141445Z
DTSTART:20021105T210000
DTEND:20021105T230000
SUMMARY:Život i smrt pukovnika Blimpa
LOCATION:Kino Tuškanac
DESCRIPTION:The Life and Death of Colonel Blimp, UK, 1943 R: Michael Powell
END:VEVENT
END:VCALENDAR