BEGIN:VCALENDAR
VERSION:2.0
PRODID:-//Kino Tuškanac//Filmski programi//HR
BEGIN:VEVENT
UID:27ad900d15dffa8a0434382ec130c33e@kinotuskanac.hr
DTSTAMP:20260420T134601Z
DTSTART:20080225T190000
DTEND:20080225T210000
SUMMARY:Giulietta od duhova
LOCATION:Kino Tuškanac
DESCRIPTION:Giulietta degli spiriti, Italija, Francuska, 1965 R: Federico Fellini
END:VEVENT
END:VCALENDAR