BEGIN:VCALENDAR
VERSION:2.0
PRODID:-//Kino Tuškanac//Filmski programi//HR
BEGIN:VEVENT
UID:d188928a7e710f9989a648ba6bed3b69@kinotuskanac.hr
DTSTAMP:20260420T134525Z
DTSTART:20080226T213000
DTEND:20080226T233000
SUMMARY:Giulietta od duhova
LOCATION:Kino Tuškanac
DESCRIPTION:Giulietta degli spiriti, Italija, Francuska, 1965 R: Federico Fellini
END:VEVENT
END:VCALENDAR