BEGIN:VCALENDAR
VERSION:2.0
PRODID:-//Kino Tuškanac//Filmski programi//HR
BEGIN:VEVENT
UID:59aaed429b25ee78ce560bd78ac165a7@kinotuskanac.hr
DTSTAMP:20260422T082520Z
DTSTART:20080227T190000
DTEND:20080227T210000
SUMMARY:Klaunovi
LOCATION:Kino Tuškanac
DESCRIPTION:I clowns, 1971 R: Federico Fellini
END:VEVENT
END:VCALENDAR