BEGIN:VCALENDAR
VERSION:2.0
PRODID:-//Kino Tuškanac//Filmski programi//HR
BEGIN:VEVENT
UID:6920fea6521cbfcd2839d79c88d76e30@kinotuskanac.hr
DTSTAMP:20260421T201806Z
DTSTART:20080227T210000
DTEND:20080227T230000
SUMMARY:Amarcord
LOCATION:Kino Tuškanac
DESCRIPTION:Italija, Francuska, 1973 R: Federico Fellini
END:VEVENT
END:VCALENDAR