BEGIN:VCALENDAR
VERSION:2.0
PRODID:-//Kino Tuškanac//Filmski programi//HR
BEGIN:VEVENT
UID:0487828bf664e2e17b20c7fbeaf5aa18@kinotuskanac.hr
DTSTAMP:20260421T201405Z
DTSTART:20080228T190000
DTEND:20080228T210000
SUMMARY:Amarcord
LOCATION:Kino Tuškanac
DESCRIPTION:Italija, Francuska, 1973 R: Federico Fellini
END:VEVENT
END:VCALENDAR