BEGIN:VCALENDAR
VERSION:2.0
PRODID:-//Kino Tuškanac//Filmski programi//HR
BEGIN:VEVENT
UID:1f4a055c0182235d75a1df17fee4155b@kinotuskanac.hr
DTSTAMP:20260422T082654Z
DTSTART:20080228T210000
DTEND:20080228T230000
SUMMARY:Klaunovi
LOCATION:Kino Tuškanac
DESCRIPTION:I clowns, 1971 R: Federico Fellini
END:VEVENT
END:VCALENDAR