BEGIN:VCALENDAR
VERSION:2.0
PRODID:-//Kino Tuškanac//Filmski programi//HR
BEGIN:VEVENT
UID:be38da181daec928df17e3d82b41fb86@kinotuskanac.hr
DTSTAMP:20260421T200803Z
DTSTART:20080229T180000
DTEND:20080229T200000
SUMMARY:Casanova
LOCATION:Kino Tuškanac
DESCRIPTION:Il Casanova di Federico Fellini, Italija, 1976 R: Federico Fellini
END:VEVENT
END:VCALENDAR