BEGIN:VCALENDAR
VERSION:2.0
PRODID:-//Kino Tuškanac//Filmski programi//HR
BEGIN:VEVENT
UID:d31a453efef9367082815cabe8d72094@kinotuskanac.hr
DTSTAMP:20260423T113302Z
DTSTART:20021116T150000
DTEND:20021116T170000
SUMMARY:Canterburyjska priča
LOCATION:Kino Tuškanac
DESCRIPTION:A Canterbury Tale, UK, 1944 R: Michael Powell
END:VEVENT
END:VCALENDAR