BEGIN:VCALENDAR
VERSION:2.0
PRODID:-//Kino Tuškanac//Filmski programi//HR
BEGIN:VEVENT
UID:2f56b08fa5eee5d107e41b4315b1964c@kinotuskanac.hr
DTSTAMP:20260421T200444Z
DTSTART:20080301T203000
DTEND:20080301T223000
SUMMARY:Casanova
LOCATION:Kino Tuškanac
DESCRIPTION:Il Casanova di Federico Fellini, Italija, 1976 R: Federico Fellini
END:VEVENT
END:VCALENDAR