BEGIN:VCALENDAR
VERSION:2.0
PRODID:-//Kino Tuškanac//Filmski programi//HR
BEGIN:VEVENT
UID:1b616e2c41bfdba6a0c9ba2fa3b9ee7a@kinotuskanac.hr
DTSTAMP:20260420T023109Z
DTSTART:20080319T210000
DTEND:20080319T230000
SUMMARY:Zemlja (1930)
LOCATION:Kino Tuškanac
DESCRIPTION:Zemlya, 1930 R: Aleksandr Dovženko
END:VEVENT
END:VCALENDAR