BEGIN:VCALENDAR
VERSION:2.0
PRODID:-//Kino Tuškanac//Filmski programi//HR
BEGIN:VEVENT
UID:d269d56e85cb361cb3ae0fffd663ba6a@kinotuskanac.hr
DTSTAMP:20260420T012126Z
DTSTART:20080320T190000
DTEND:20080320T210000
SUMMARY:Zemlja (1930)
LOCATION:Kino Tuškanac
DESCRIPTION:Zemlya, 1930 R: Aleksandr Dovženko
END:VEVENT
END:VCALENDAR